Workbook

Sheet 原始数据
A1: 证券代码 | B1: 证券简称 | C1: 办公地址 | D1: 董事会秘书[交易日期] 最新 | E1: 公司电话 | F1: 上市日期 | G1: 城市 | H1: 上市地点 | I1: 城市（调整后）
A2: 000404.SZ | B2: 长虹华意 | C2: 江西省景德镇市高新区长虹大道1号(高新开发区内) | D2: 史强 | E2: 86-798-8470237,86-798-8470228 | F2: 35235 | G2: 景德镇市 | H2: 深圳 | I2: =_xlfn.XLOOKUP(G2,处理步骤!A:A,处理步骤!B:B,原始数据!G2) -> 景德镇市
A3: 000550.SZ | B3: 江铃汽车 | C3: 江西省南昌市南昌县迎宾中大道2111号 | D3: 许兰锋 | E3: 86-791-85266178 | F3: 34304 | G3: 南昌市 | H3: 深圳 | I3: =_xlfn.XLOOKUP(G3,处理步骤!A:A,处理步骤!B:B,原始数据!G3) -> 南昌市
A4: 000650.SZ | B4: 仁和药业 | C4: 江西省南昌市红谷滩新区红谷中大道998号绿地中央广场B区元创国际18层 | D4: 姜锋 | E4: 86-791-83896755 | F4: 35409 | G4: 樟树市 | H4: 深圳 | I4: =_xlfn.XLOOKUP(G4,处理步骤!A:A,处理步骤!B:B,原始数据!G4) -> 宜春市
A5: 000789.SZ | B5: 万年青 | C5: 江西省南昌市高新技术开发区京东大道399号万年青科技园 | D5: 熊汉南 | E5: 86-791-88120789 | F5: 35696 | G5: 上饶市 | H5: 深圳 | I5: =_xlfn.XLOOKUP(G5,处理步骤!A:A,处理步骤!B:B,原始数据!G5) -> 上饶市
A6: 000820.SZ | B6: 神雾节能 | C6: 江苏省南京市雨花台区宁双路28号汇智大厦A座9楼 | D6: 董郭静 | E6: 86-25-85499131 | F6: 35976 | G6: 南昌市 | H6: 深圳 | I6: =_xlfn.XLOOKUP(G6,处理步骤!A:A,处理步骤!B:B,原始数据!G6) -> 南昌市
A7: 000829.SZ | B7: 天音控股 | C7: 北京市西城区德外大街117号德胜尚城D座 | D7: 孙海龙 | E7: 86-10-58300807 | F7: 35766 | G7: 赣州市 | H7: 深圳 | I7: =_xlfn.XLOOKUP(G7,处理步骤!A:A,处理步骤!B:B,原始数据!G7) -> 赣州市
A8: 000831.SZ | B8: 中国稀土 | C8: 江西省赣州市章贡区章江南大道18号豪德银座A栋14,15层 | D8: 王宏源 | E8: 86-797-8398390 | F8: 36049 | G8: 赣州市 | H8: 深圳 | I8: =_xlfn.XLOOKUP(G8,处理步骤!A:A,处理步骤!B:B,原始数据!G8) -> 赣州市
A9: 000899.SZ | B9: 赣能股份 | C9: 江西省南昌市高新技术开发区火炬大街199号 | D9: 李洁 | E9: 86-791-88109899,86-791-88106200 | F9: 35760 | G9: 南昌市 | H9: 深圳 | I9: =_xlfn.XLOOKUP(G9,处理步骤!A:A,处理步骤!B:B,原始数据!G9) -> 南昌市
A10: 000990.SZ | B10: 诚志股份 | C10: 江西省南昌市经济开发区玉屏东大道299号清华科技园(江西)华江大厦 | D10: 邹勇华 | E10: 86-791-83826898 | F10: 36713 | G10: 南昌市 | H10: 深圳 | I10: =_xlfn.XLOOKUP(G10,处理步骤!A:A,处理步骤!B:B,原始数据!G10) -> 南昌市
A11: 001223.SZ | B11: 欧克科技 | C11: 江西省九江市修水县工业园芦塘项目区 | D11: 陈真 | E11: 86-792-7332288 | F11: 44907 | G11: 九江市 | H11: 深圳 | I11: =_xlfn.XLOOKUP(G11,处理步骤!A:A,处理步骤!B:B,原始数据!G11) -> 九江市
A12: 001318.SZ | B12: 阳光乳业 | C12: 江西省南昌市青云谱区岱山东路1号 | D12: 杨发兴 | E12: 86-791-85278434 | F12: 44701 | G12: 南昌市 | H12: 深圳 | I12: =_xlfn.XLOOKUP(G12,处理步骤!A:A,处理步骤!B:B,原始数据!G12) -> 南昌市
A13: 001360.SZ | B13: 南矿集团 | C13: 江西省南昌市新建区湾里区红湾大道300号 | D13: 缪韵 | E13: 86-791-83782902 | F13: 45026 | G13: 南昌市 | H13: 深圳 | I13: =_xlfn.XLOOKUP(G13,处理步骤!A:A,处理步骤!B:B,原始数据!G13) -> 南昌市
... A89: 873167.BJ | B89: 新赣江 | C89: 江西省吉安市吉州区云章路36号 | D89: 严棋鹏 | E89: 86-796-8280213 | F89: 44966 | G89: 吉安市 | H89: 北京 | I89: =_xlfn.XLOOKUP(G89,处理步骤!A:A,处理步骤!B:B,原始数据!G89) -> 吉安市

Sheet 处理步骤
A1: 1 | B1: 删除江铃B
A3: 2 | B3: 县级市调整，在I列填调整后的城市
A4: 城市 | B4: 调整后城市
A5: 乐平市 | B5: 景德镇市
A6: 樟树市 | B6: 宜春市
A7: 高安市 | B7: 宜春市
A8: 丰城市 | B8: 宜春市
A9: 贵溪市 | B9: 鹰潭市
A11: 3 | B11: 修改月份
A13: 4 | B13: 隐藏F\G\I列
A15: 5 | B15: 筛选，复制（H列不用复制），粘贴
A17: 6 | B17: 修改月份

Sheet 上交所上市公司名录
A1: 江西辖区上海证券交易所上市公司名录 （2024年1月）
A2: 序号 | B2: 证券代码 | C2: 证券简称 | D2: 办公地址 | E2: 董事会秘书 | F2: 公司电话
A3: =ROW()-2 -> 1 | B3: 600053.SH | C3: 九鼎投资 | D3: 江西省南昌市东湖区沿江北大道1379号紫金城A栋写字楼 | E3: 易凌杰 | F3: 86-791-88666003
A4: =ROW()-2 -> 2 | B4: 600071.SH | C4: 凤凰光学 | D4: 江西省上饶市凤凰西大道197号 | E4: 谢会超 | F4: 86-793-8259547
A5: =ROW()-2 -> 3 | B5: 600228.SH | C5: 返利科技 | D5: 上海市徐汇区龙漕路200弄乙字一号 | E5: 陈明 | F5: 86-21-80231198
A6: =ROW()-2 -> 4 | B6: 600269.SH | C6: 赣粤高速 | D6: 江西省南昌市西湖区朝阳洲中路367号赣粤大厦 | E6: 付艳 | F6: 86-791-86527021,86-791-86504269
A7: =ROW()-2 -> 5 | B7: 600316.SH | C7: 洪都航空 | D7: 江西省南昌市南昌高新技术开发区航空城 | E7: 邓峰 | F7: 86-791-87668769,86-791-87668162
A8: =ROW()-2 -> 6 | B8: 600337.SH | C8: 美克家居 | D8: 新疆维吾尔自治区乌鲁木齐市北京南路506号 | E8: 黄新 | F8: 86-22-59819058
A9: =ROW()-2 -> 7 | B9: 600358.SH | C9: 国旅联合 | D9: 江西省南昌市红谷滩区学府大道1号34栋2楼 | E9: 彭慧斌 | F9: 86-791-87705106
A10: =ROW()-2 -> 8 | B10: 600362.SH | C10: 江西铜业 | D10: 江西省南昌市高新开发区昌东大道7666号 | E10: 涂东阳 | F10: 86-791-82710112,86-791-82710118,86-791-82710117
A11: =ROW()-2 -> 9 | B11: 600363.SH | C11: 联创光电 | D11: 江西省南昌市高新技术产业开发区京东大道168号 | E11: 邓惠霞 | F11: 86-791-88161979
A12: =ROW()-2 -> 10 | B12: 600373.SH | C12: 中文传媒 | D12: 江西省南昌市红谷滩区丽景路95号出版中心 | E12: 毛剑波 | F12: 86-791-85896008,86-791-85896196
A13: =ROW()-2 -> 11 | B13: 600397.SH | C13: 安源煤业 | D13: 江西省南昌市西湖区九州大街1022号 | E13: 钱蔚 | F13: 86-791-86316515,86-791-86316516
A14: =ROW()-2 -> 12 | B14: 600461.SH | C14: 洪城环境 | D14: 江西省南昌市红谷滩新区绿茵路1289号 | E14: 邓勋元 | F14: 86-791-85234708
... A35: =ROW()-2 -> 33 | B35: 688786.SH | C35: 悦安新材 | D35: 江西省赣州市大余县新华工业园 | E35: 李博 | F35: 86-797-8705008

Sheet 深交所上市公司名录
A1: 江西辖区深圳证券交易所上市公司名录 （2024年1月）
A2: 序号 | B2: 证券代码 | C2: 证券简称 | D2: 办公地址 | E2: 董事会秘书 | F2: 公司电话
A3: =ROW()-2 -> 1 | B3: 000404.SZ | C3: 长虹华意 | D3: 江西省景德镇市高新区长虹大道1号(高新开发区内) | E3: 史强 | F3: 86-798-8470237,86-798-8470228
A4: =ROW()-2 -> 2 | B4: 000550.SZ | C4: 江铃汽车 | D4: 江西省南昌市南昌县迎宾中大道2111号 | E4: 许兰锋 | F4: 86-791-85266178
A5: =ROW()-2 -> 3 | B5: 000650.SZ | C5: 仁和药业 | D5: 江西省南昌市红谷滩新区红谷中大道998号绿地中央广场B区元创国际18层 | E5: 姜锋 | F5: 86-791-83896755
A6: =ROW()-2 -> 4 | B6: 000789.SZ | C6: 万年青 | D6: 江西省南昌市高新技术开发区京东大道399号万年青科技园 | E6: 熊汉南 | F6: 86-791-88120789
A7: =ROW()-2 -> 5 | B7: 000820.SZ | C7: 神雾节能 | D7: 江苏省南京市雨花台区宁双路28号汇智大厦A座9楼 | E7: 董郭静 | F7: 86-25-85499131
A8: =ROW()-2 -> 6 | B8: 000829.SZ | C8: 天音控股 | D8: 北京市西城区德外大街117号德胜尚城D座 | E8: 孙海龙 | F8: 86-10-58300807
A9: =ROW()-2 -> 7 | B9: 000831.SZ | C9: 中国稀土 | D9: 江西省赣州市章贡区章江南大道18号豪德银座A栋14,15层 | E9: 王宏源 | F9: 86-797-8398390
A10: =ROW()-2 -> 8 | B10: 000899.SZ | C10: 赣能股份 | D10: 江西省南昌市高新技术开发区火炬大街199号 | E10: 李洁 | F10: 86-791-88109899,86-791-88106200
A11: =ROW()-2 -> 9 | B11: 000990.SZ | C11: 诚志股份 | D11: 江西省南昌市经济开发区玉屏东大道299号清华科技园(江西)华江大厦 | E11: 邹勇华 | F11: 86-791-83826898
A12: =ROW()-2 -> 10 | B12: 001223.SZ | C12: 欧克科技 | D12: 江西省九江市修水县工业园芦塘项目区 | E12: 陈真 | F12: 86-792-7332288
A13: =ROW()-2 -> 11 | B13: 001318.SZ | C13: 阳光乳业 | D13: 江西省南昌市青云谱区岱山东路1号 | E13: 杨发兴 | F13: 86-791-85278434
A14: =ROW()-2 -> 12 | B14: 001360.SZ | C14: 南矿集团 | D14: 江西省南昌市新建区湾里区红湾大道300号 | E14: 缪韵 | F14: 86-791-83782902
... A54: =ROW()-2 -> 52 | B54: 301511.SZ | C54: 德福科技 | D54: 江西省九江市濂溪区开发区汽车工业园顺意路15号 | E54: 吴丹妮 | F54: 86-792-8262176
